BEGIN:VCALENDAR
VERSION:2.0
PRODID:-//SkillsUSA Texas Postsecondary - ECPv6.15.20//NONSGML v1.0//EN
CALSCALE:GREGORIAN
METHOD:PUBLISH
X-ORIGINAL-URL:https://skillsusatxps.org
X-WR-CALDESC:Events for SkillsUSA Texas Postsecondary
REFRESH-INTERVAL;VALUE=DURATION:PT1H
X-Robots-Tag:noindex
X-PUBLISHED-TTL:PT1H
BEGIN:VTIMEZONE
TZID:UTC
BEGIN:STANDARD
TZOFFSETFROM:+0000
TZOFFSETTO:+0000
TZNAME:UTC
DTSTART:20210101T000000
END:STANDARD
END:VTIMEZONE
BEGIN:VEVENT
DTSTART;TZID=UTC:20230301T235900
DTEND;TZID=UTC:20230301T235900
DTSTAMP:20260424T050239
CREATED:20230301T173316Z
LAST-MODIFIED:20220919T201220Z
UID:212-1677715140-1677715140@skillsusatxps.org
SUMMARY:Membership Closes
DESCRIPTION:Registration Closed\nNo late registrations will be accepted.
URL:https://skillsusatxps.org/event/registration-closes/
END:VEVENT
BEGIN:VEVENT
DTSTART;TZID=UTC:20230301T080000
DTEND;TZID=UTC:20230301T170000
DTSTAMP:20260424T050239
CREATED:20220919T235729Z
LAST-MODIFIED:20220919T235734Z
UID:2073-1677657600-1677690000@skillsusatxps.org
SUMMARY:CEP Applications Due
DESCRIPTION:
URL:https://skillsusatxps.org/event/cep-applications-due/
END:VEVENT
BEGIN:VEVENT
DTSTART;TZID=UTC:20230227T080000
DTEND;TZID=UTC:20230227T170000
DTSTAMP:20260424T050239
CREATED:20220919T235632Z
LAST-MODIFIED:20220919T235637Z
UID:2071-1677484800-1677517200@skillsusatxps.org
SUMMARY:Chapter of the Year Application Due
DESCRIPTION:
URL:https://skillsusatxps.org/event/chapter-of-the-year-application-due/
END:VEVENT
BEGIN:VEVENT
DTSTART;TZID=UTC:20221104T083000
DTEND;TZID=UTC:20221104T160000
DTSTAMP:20260424T050239
CREATED:20220920T001036Z
LAST-MODIFIED:20220920T001041Z
UID:2089-1667550600-1667577600@skillsusatxps.org
SUMMARY:LEAD Advisor Conference
DESCRIPTION:
URL:https://skillsusatxps.org/event/lead-advisor-conference-3/
LOCATION:Texas State Technical College Harlingen\, 1902 N Loop 499\, Harlingen\, Texas\, 78550
END:VEVENT
BEGIN:VEVENT
DTSTART;TZID=UTC:20221021T083000
DTEND;TZID=UTC:20221021T160000
DTSTAMP:20260424T050239
CREATED:20220920T000519Z
LAST-MODIFIED:20220920T000759Z
UID:2085-1666341000-1666368000@skillsusatxps.org
SUMMARY:LEAD Advisor Conference
DESCRIPTION:
URL:https://skillsusatxps.org/event/lead-advisor-conference-2/
LOCATION:Texas State Technical College Fort Bend\, 26706 Southwest Fwy\, Rosenburg\, Texas\, 77471
END:VEVENT
BEGIN:VEVENT
DTSTART;TZID=UTC:20221005T170000
DTEND;TZID=UTC:20221005T170000
DTSTAMP:20260424T050239
CREATED:20220919T235536Z
LAST-MODIFIED:20220919T235541Z
UID:2069-1664989200-1664989200@skillsusatxps.org
SUMMARY:Texas Regulations Handbook Released
DESCRIPTION:
URL:https://skillsusatxps.org/event/texas-regulations-handbook-released/
END:VEVENT
BEGIN:VEVENT
DTSTART;TZID=UTC:20221003T120000
DTEND;TZID=UTC:20221003T120000
DTSTAMP:20260424T050239
CREATED:20220919T235436Z
LAST-MODIFIED:20220919T235441Z
UID:2067-1664798400-1664798400@skillsusatxps.org
SUMMARY:National Technical Standards Release
DESCRIPTION:
URL:https://skillsusatxps.org/event/national-technical-standards-release/
END:VEVENT
BEGIN:VEVENT
DTSTART;TZID=UTC:20220930T083000
DTEND;TZID=UTC:20220930T160000
DTSTAMP:20260424T050239
CREATED:20220920T000255Z
LAST-MODIFIED:20220920T000724Z
UID:2083-1664526600-1664553600@skillsusatxps.org
SUMMARY:LEAD Advisor Conference
DESCRIPTION:
URL:https://skillsusatxps.org/event/lead-advisor-conference/
LOCATION:Texas State Technical College\, 3801 Campus Dr\, Waco\, TX\, 76705\, United States
ATTACH;FMTTYPE=image/jpeg:https://skillsusatxps.org/wp-content/uploads/2022/09/cropped-LEAD-CONFERENCE.jpg
END:VEVENT
BEGIN:VEVENT
DTSTART;TZID=UTC:20221001T090000
DTEND;TZID=UTC:20221001T160000
DTSTAMP:20260424T050239
CREATED:20171106T173728Z
LAST-MODIFIED:20220919T234312Z
UID:128-1664614800-1664640000@skillsusatxps.org
SUMMARY:SkillsUSA Texas C P/S Board Meeting
DESCRIPTION:Dallas College\, Cedar Valley Campus
URL:https://skillsusatxps.org/event/skillsusa-texas-c-ps-board-meeting-2/
LOCATION:Texas State Technical College\, 3801 Campus Dr\, Waco\, TX\, 76705\, United States
END:VEVENT
BEGIN:VEVENT
DTSTART;TZID=UTC:20230121T090000
DTEND;TZID=UTC:20230121T160000
DTSTAMP:20260424T050239
CREATED:20171106T171529Z
LAST-MODIFIED:20220919T234218Z
UID:123-1674291600-1674316800@skillsusatxps.org
SUMMARY:SkillsUSA Texas C P/S Board Meeting
DESCRIPTION:Omni Houston\, TX
URL:https://skillsusatxps.org/event/skillsusa-texas-c-ps-board-meeting/
END:VEVENT
BEGIN:VEVENT
DTSTART;TZID=UTC:20230311T090000
DTEND;TZID=UTC:20230311T160000
DTSTAMP:20260424T050239
CREATED:20171106T171250Z
LAST-MODIFIED:20220919T234823Z
UID:120-1678525200-1678550400@skillsusatxps.org
SUMMARY:SkillsUSA Texas C P/S Board Meeting & Training
DESCRIPTION:Waco\, TX
URL:https://skillsusatxps.org/event/skillsusa-texas-c-ps-board-meeting-training/
LOCATION:Burnett\, TX\, United States
END:VEVENT
END:VCALENDAR